BEGIN:VCALENDAR
VERSION:2.0
PRODID:-//PYVOBJECT//NONSGML Version 0.9.9//EN
X-WR-TIMEZONE:Africa/Johannesburg
BEGIN:VTIMEZONE
TZID:Africa/Johannesburg
BEGIN:STANDARD
DTSTART:20000101T000000
RRULE:FREQ=YEARLY;BYMONTH=1
TZNAME:SAST
TZOFFSETFROM:+0200
TZOFFSETTO:+0200
END:STANDARD
END:VTIMEZONE
BEGIN:VEVENT
UID:20260424T113657Z - 85023@eos-content
DTSTART;TZID=Africa/Johannesburg:20260426T140000
DTEND;TZID=Africa/Johannesburg:20260426T160000
ATTENDEE:MAILTO:teresa@threepercent.com
DESCRIPTION:https://www.threepercent.com/results/residential/for-sale/east-
 london/beacon-bay/freehold/2929271/15-highfield-place/\n\n15 Highfield Roa
 d\nBeacon Bay\n\nTeresa De La Querra (0721086620)
DTSTAMP:20260424T113657Z
LOCATION:15 Highfield Place\, Beacon Bay\, East London
SUMMARY:3%.Com Properties Show Day - RL26631
END:VEVENT
END:VCALENDAR
