BEGIN:VCALENDAR
VERSION:2.0
PRODID:-//PYVOBJECT//NONSGML Version 0.9.9//EN
X-WR-TIMEZONE:Africa/Johannesburg
BEGIN:VTIMEZONE
TZID:Africa/Johannesburg
BEGIN:STANDARD
DTSTART:20000101T000000
RRULE:FREQ=YEARLY;BYMONTH=1
TZNAME:SAST
TZOFFSETFROM:+0200
TZOFFSETTO:+0200
END:STANDARD
END:VTIMEZONE
BEGIN:VEVENT
UID:20260425T114901Z - 84412@eos-content
DTSTART;TZID=Africa/Johannesburg:20260425T140000
DTEND;TZID=Africa/Johannesburg:20260425T170000
ATTENDEE:MAILTO:louise@mythreepercent.com
DESCRIPTION:https://www.threepercent.com/results/residential/for-sale/centu
 rion/midstream-estate/house/3151643/\n\nFollow Sign Boards\n\nLouise Dobso
 n (0827255866)
DTSTAMP:20260425T114901Z
LOCATION:Midstream Estate\, Centurion
SUMMARY:3%.Com Properties Show Day - 7510415
END:VEVENT
END:VCALENDAR
